BEGIN:VCALENDAR
VERSION:2.0
PRODID:-//wp-events-plugin.com//7.2.3.1//EN
TZID:Europe/Berlin
X-WR-TIMEZONE:Europe/Berlin
BEGIN:VEVENT
UID:339@bs-schoenbrunn.de
DTSTART:20260625T060000Z
DTEND:20260626T150000Z
DTSTAMP:20260325T124739Z
URL:https://bs-schoenbrunn.de/veranstaltungen/fosbos-muendliche-pruefungen
 -nach-plan/
SUMMARY:FOSBOS mündliche Prüfungen nach Plan
DESCRIPTION:
CATEGORIES:Allgemein
END:VEVENT
END:VCALENDAR