BEGIN:VCALENDAR
VERSION:2.0
PRODID:-//wp-events-plugin.com//7.2.3.1//EN
TZID:Europe/Berlin
X-WR-TIMEZONE:Europe/Berlin
BEGIN:VEVENT
UID:286@bs-schoenbrunn.de
DTSTART:20251128T070000Z
DTEND:20251128T090000Z
DTSTAMP:20260325T124707Z
URL:https://bs-schoenbrunn.de/veranstaltungen/fosbos-fachreferat/
SUMMARY:FOSBOS Fachreferat
DESCRIPTION:Ende Fächerwahl
CATEGORIES:Allgemein
END:VEVENT
END:VCALENDAR