BEGIN:VCALENDAR
VERSION:2.0
PRODID:-//wp-events-plugin.com//7.2.3.1//EN
TZID:Europe/Berlin
X-WR-TIMEZONE:Europe/Berlin
BEGIN:VEVENT
UID:226@bs-schoenbrunn.de
DTSTART:20250627T070000Z
DTEND:20250627T110000Z
DTSTAMP:20260325T124629Z
URL:https://bs-schoenbrunn.de/veranstaltungen/faks-2-ap-lmp-oder-trp-kath/
SUMMARY:FakS 2 - AP LMP oder TRP (kath.)
DESCRIPTION:
CATEGORIES:Allgemein
END:VEVENT
END:VCALENDAR