BEGIN:VCALENDAR
VERSION:2.0
PRODID:-//wp-events-plugin.com//7.2.3.1//EN
TZID:Europe/Berlin
X-WR-TIMEZONE:Europe/Berlin
BEGIN:VEVENT
UID:348@bs-schoenbrunn.de
DTSTART;VALUE=DATE:20261118
DTEND;VALUE=DATE:20261119
DTSTAMP:20260325T124745Z
URL:https://bs-schoenbrunn.de/veranstaltungen/buss-und-bettag-schulfrei-2/
SUMMARY:Buß- und Bettag - schulfrei
DESCRIPTION:
CATEGORIES:Allgemein
END:VEVENT
END:VCALENDAR